BEGIN:VCALENDAR
VERSION:2.0
PRODID:-//Jeanine Cummins - ECPv6.15.20//NONSGML v1.0//EN
CALSCALE:GREGORIAN
METHOD:PUBLISH
X-WR-CALNAME:Jeanine Cummins
X-ORIGINAL-URL:https://jeaninecummins.com
X-WR-CALDESC:Events for Jeanine Cummins
REFRESH-INTERVAL;VALUE=DURATION:PT1H
X-Robots-Tag:noindex
X-PUBLISHED-TTL:PT1H
BEGIN:VTIMEZONE
TZID:America/New_York
BEGIN:DAYLIGHT
TZOFFSETFROM:-0500
TZOFFSETTO:-0400
TZNAME:EDT
DTSTART:20250309T070000
END:DAYLIGHT
BEGIN:STANDARD
TZOFFSETFROM:-0400
TZOFFSETTO:-0500
TZNAME:EST
DTSTART:20251102T060000
END:STANDARD
BEGIN:DAYLIGHT
TZOFFSETFROM:-0500
TZOFFSETTO:-0400
TZNAME:EDT
DTSTART:20260308T070000
END:DAYLIGHT
BEGIN:STANDARD
TZOFFSETFROM:-0400
TZOFFSETTO:-0500
TZNAME:EST
DTSTART:20261101T060000
END:STANDARD
BEGIN:DAYLIGHT
TZOFFSETFROM:-0500
TZOFFSETTO:-0400
TZNAME:EDT
DTSTART:20270314T070000
END:DAYLIGHT
BEGIN:STANDARD
TZOFFSETFROM:-0400
TZOFFSETTO:-0500
TZNAME:EST
DTSTART:20271107T060000
END:STANDARD
END:VTIMEZONE
BEGIN:VEVENT
DTSTART;TZID=America/New_York:20260430T180000
DTEND;TZID=America/New_York:20260430T190000
DTSTAMP:20260425T082431
CREATED:20260419T195616Z
LAST-MODIFIED:20260420T173759Z
UID:2784-1777572000-1777575600@jeaninecummins.com
SUMMARY:Union\, MO
DESCRIPTION:Scenic Regional Library Community Reads: Meet the Author evening
URL:https://jeaninecummins.com/event/scenic-regional-library-community-reads/
LOCATION:Scenic Regional Library\, 251 Union Plaza Drive\, Union\, MO\, 63084
END:VEVENT
BEGIN:VEVENT
DTSTART;TZID=America/New_York:20260514T180000
DTEND;TZID=America/New_York:20260514T200000
DTSTAMP:20260425T082431
CREATED:20260420T180428Z
LAST-MODIFIED:20260420T180428Z
UID:2822-1778781600-1778788800@jeaninecummins.com
SUMMARY:Corte Madera\, CA
DESCRIPTION:In-store event at Book Passage
URL:https://jeaninecummins.com/event/corte-madera-ca/
LOCATION:Book Passage\, 51 Tamal Vista Blvd.\, Corte Madera\, CA
END:VEVENT
BEGIN:VEVENT
DTSTART;TZID=America/New_York:20260516T110000
DTEND;TZID=America/New_York:20260516T123000
DTSTAMP:20260425T082431
CREATED:20260420T180934Z
LAST-MODIFIED:20260420T180934Z
UID:2827-1778929200-1778934600@jeaninecummins.com
SUMMARY:San Diego\, CA
DESCRIPTION:Adventures By The Book: A USA 250th Birthday Series Adventure featuring Jeanine Cummins
URL:https://jeaninecummins.com/event/san-diego-ca/
LOCATION:Pacific Highlands Ranch Library\, 12911 Pacific Place\, San Diego\, CA
END:VEVENT
BEGIN:VEVENT
DTSTART;TZID=America/New_York:20260604T190000
DTEND;TZID=America/New_York:20260604T203000
DTSTAMP:20260425T082431
CREATED:20260419T201341Z
LAST-MODIFIED:20260420T173313Z
UID:2790-1780599600-1780605000@jeaninecummins.com
SUMMARY:Montclair\, NJ - SOLD OUT
DESCRIPTION:Ann Patchett discussing her new novel\, Whistler\, in Conversation with Jeanine Cummins\nas part of Montclair Public Library’s Open Book/Open Mind series
URL:https://jeaninecummins.com/event/ann-patchett-in-conversation-with-jeanine-cummins-sold-out/
LOCATION:First Congregational Church\, Montclair\, NJ
END:VEVENT
BEGIN:VEVENT
DTSTART;VALUE=DATE:20260617
DTEND;VALUE=DATE:20260618
DTSTAMP:20260425T082431
CREATED:20260420T170039Z
LAST-MODIFIED:20260420T173704Z
UID:2798-1781654400-1781740799@jeaninecummins.com
SUMMARY:Westport\, Ireland
DESCRIPTION:Meet the author evening at Tertulia Bookshop
URL:https://jeaninecummins.com/event/meet-the-author-evening/
LOCATION:Tertulia Bookshop\, Westport Quay\, Westport\, Mayo\, Ireland
END:VEVENT
BEGIN:VEVENT
DTSTART;TZID=America/New_York:20260618T203000
DTEND;TZID=America/New_York:20260618T213000
DTSTAMP:20260425T082431
CREATED:20260420T170504Z
LAST-MODIFIED:20260420T175639Z
UID:2801-1781814600-1781818200@jeaninecummins.com
SUMMARY:Dalkey Book Festival
DESCRIPTION:American Culture: who is shaping the nation’s story?\nThis panel will include Mary Cregan\, Mark Blyth\, and Finn McRedmond along with Jeanine Cummins
URL:https://jeaninecummins.com/event/dalkey-book-festival-american-culture-panel/
LOCATION:Loreto Abbey\, Dalkey Commons\, Dalkey\, Ireland
END:VEVENT
BEGIN:VEVENT
DTSTART;TZID=America/New_York:20260620T120000
DTEND;TZID=America/New_York:20260620T140000
DTSTAMP:20260425T082431
CREATED:20260420T170914Z
LAST-MODIFIED:20260420T175903Z
UID:2804-1781956800-1781964000@jeaninecummins.com
SUMMARY:Dalkey Book Festival
DESCRIPTION:Outsiders: Jeanine Cummins in Conversation with John Boyne
URL:https://jeaninecummins.com/event/dalkey-book-festival-jeanine-cummins-in-conversation-with-john-boyne/
LOCATION:Cuala\, Hyde Park\, Dalkey\, Ireland
END:VEVENT
END:VCALENDAR